BEGIN:VCALENDAR
VERSION:2.0
PRODID:-//Redeemer Church - ECPv6.15.11//NONSGML v1.0//EN
CALSCALE:GREGORIAN
METHOD:PUBLISH
X-WR-CALNAME:Redeemer Church
X-ORIGINAL-URL:https://redeemerparkridge.com
X-WR-CALDESC:Events for Redeemer Church
REFRESH-INTERVAL;VALUE=DURATION:PT1H
X-Robots-Tag:noindex
X-PUBLISHED-TTL:PT1H
BEGIN:VTIMEZONE
TZID:America/Chicago
BEGIN:DAYLIGHT
TZOFFSETFROM:-0600
TZOFFSETTO:-0500
TZNAME:CDT
DTSTART:20180311T080000
END:DAYLIGHT
BEGIN:STANDARD
TZOFFSETFROM:-0500
TZOFFSETTO:-0600
TZNAME:CST
DTSTART:20181104T070000
END:STANDARD
BEGIN:DAYLIGHT
TZOFFSETFROM:-0600
TZOFFSETTO:-0500
TZNAME:CDT
DTSTART:20190310T080000
END:DAYLIGHT
BEGIN:STANDARD
TZOFFSETFROM:-0500
TZOFFSETTO:-0600
TZNAME:CST
DTSTART:20191103T070000
END:STANDARD
BEGIN:DAYLIGHT
TZOFFSETFROM:-0600
TZOFFSETTO:-0500
TZNAME:CDT
DTSTART:20200308T080000
END:DAYLIGHT
BEGIN:STANDARD
TZOFFSETFROM:-0500
TZOFFSETTO:-0600
TZNAME:CST
DTSTART:20201101T070000
END:STANDARD
BEGIN:DAYLIGHT
TZOFFSETFROM:-0600
TZOFFSETTO:-0500
TZNAME:CDT
DTSTART:20210314T080000
END:DAYLIGHT
BEGIN:STANDARD
TZOFFSETFROM:-0500
TZOFFSETTO:-0600
TZNAME:CST
DTSTART:20211107T070000
END:STANDARD
END:VTIMEZONE
BEGIN:VTIMEZONE
TZID:UTC
BEGIN:STANDARD
TZOFFSETFROM:+0000
TZOFFSETTO:+0000
TZNAME:UTC
DTSTART:20180101T000000
END:STANDARD
END:VTIMEZONE
BEGIN:VEVENT
DTSTART;TZID=America/Chicago:20200212T190000
DTEND;TZID=America/Chicago:20200212T201500
DTSTAMP:20260422T170655
CREATED:20200103T013047Z
LAST-MODIFIED:20200207T043342Z
UID:661-1581534000-1581538500@redeemerparkridge.com
SUMMARY:Financial Wellness Class
DESCRIPTION:Thrivent Financial is offering free Financial Wellness Classes at Third Place Chicago from 7:00-8:15pm. This is a great way to brush up on some skills or have questions answered by professionals who can explain this a bit better than the Internet! The topics include Values-Based Budgeting\, SMART Goals\, Finding Ways to Save\, and Decoding Your Credit.
URL:https://redeemerparkridge.com/event/financial-wellness-class/
LOCATION:Third Place Chicago\, 4651 N. Milwaukee Avenue\, Chicago\, IL\, 60630\, United States
END:VEVENT
BEGIN:VEVENT
DTSTART;TZID=America/Chicago:20191228T093000
DTEND;TZID=America/Chicago:20191228T113000
DTSTAMP:20260422T170655
CREATED:20191121T233615Z
LAST-MODIFIED:20191219T054723Z
UID:563-1577525400-1577532600@redeemerparkridge.com
SUMMARY:Group for Moms (MOPS & MOMSnext)
DESCRIPTION:(We originally planned to meet on December 7\, but we have rescheduled for December 28. In January\, we will return to our normal first-Saturday-of-the-month schedule.) \nCome join other Northwest Side moms at our new MOPS/MOMSnext group held at Third Place Chicago. MOPS/MOMSnext is a national organization that gathers moms to support each other through the journey of motherhood. We believe in the simple but revolutionary idea that remarkable things happen when moms come together face-to-face. That’s why we rally women to come together in their own neighborhoods and help each other through this thing called motherhood\, one gathering at a time. \nWhether you are a soon-to-be mom\, first-time mom or seventh-time mom\, you are welcome here. Whether you are an adoptive mom\, young mom\, seasoned mom\, foster mom\, stepmom or any other type of mom\, you are welcome here. Moms who have children\, no matter the age\, are welcome. Our gatherings are where moms can meet to share their hopes\, fears\, and insights in a format that works with their schedule. Come join us for honest conversations about the joys and frustrations of motherhood\, take a break from the routine of life\, have some fun\, make new friendships\, and build support networks. \nChildcare is provided at all meetings. For more information\, go to thirdplacechicago.com/mops.
URL:https://redeemerparkridge.com/event/group-for-moms-mops-momsnext-2/
LOCATION:Third Place Chicago\, 4651 N. Milwaukee Avenue\, Chicago\, IL\, 60630\, United States
END:VEVENT
BEGIN:VEVENT
DTSTART;TZID=America/Chicago:20191208T100000
DTEND;TZID=America/Chicago:20191208T104500
DTSTAMP:20260422T170655
CREATED:20191128T230102Z
LAST-MODIFIED:20191128T230102Z
UID:597-1575799200-1575801900@redeemerparkridge.com
SUMMARY:Faith in Action: Cards for Hospitalized Kids
DESCRIPTION:Join us in between worship services on Sunday\, December 8\, to make holiday cards to send to kids who are hospitalized across the nation. No artistic skills required! Stay for five minutes or stay the whole time! This is a great event for all ages! We will be donating the holiday cards to Cards for Hospitalized Kids\, an organization dedicated to spreading hope and joy to hospitalized kids across America through uplifting\, handmade cards.
URL:https://redeemerparkridge.com/event/faith-in-action-cards-for-hospitalized-kids/
LOCATION:Redeemer Park Ridge\, 1006 Gillick St\, Park Ridge\, IL\, 60068\, United States
END:VEVENT
BEGIN:VEVENT
DTSTART;TZID=UTC:20191116T190000
DTEND;TZID=UTC:20191116T210000
DTSTAMP:20260422T170655
CREATED:20191016T212244Z
LAST-MODIFIED:20191016T212422Z
UID:231-1573930800-1573938000@redeemerparkridge.com
SUMMARY:November Faith-in-Action Event
DESCRIPTION:Adults and children alike will come together at 7:45 p.m. at the Schaumburg location (740 Wiley Farm Ct\, Schaumburg\, IL 60173) to help hand-pack special meals that will be shipped to starving children around the world. This is a great event for people of ALL ages! For more information on this fun event\, contact the church office at office@redeemerchicago.com. \nIf you would like to sign up\, here is a link to do so: https://www.fmsc.org/join-group?joincode=9D1P8B \nJoin code: 9D1P8B
URL:https://redeemerparkridge.com/event/november-faith-in-action-event/
LOCATION:Feed My Starving Children\, 740 Wiley Ct.\, Schaumburg\, IL\, 60173\, United States
CATEGORIES:Faith In Action
END:VEVENT
BEGIN:VEVENT
DTSTART;TZID=UTC:20191102T093000
DTEND;TZID=UTC:20191102T113000
DTSTAMP:20260422T170655
CREATED:20191016T210654Z
LAST-MODIFIED:20191016T212435Z
UID:220-1572687000-1572694200@redeemerparkridge.com
SUMMARY:Group for Moms (MOPS/MOMSnext)
DESCRIPTION:Come join other Northwest Side moms at our new MOPS/MOMSnext group held at our community center Third Place Chicago (4651 N Milwaukee Ave\, Chicago\, IL 60630)  MOPS/MOMSnext is a national organization that gathers moms to support each other through the journey of motherhood. We believe in the simple but revolutionary idea that remarkable things happen when moms come together face-to-face. That’s why we rally women to come together in their own neighborhoods and help each other through this thing called motherhood\, one gathering at a time. \nWhether you are a soon-to-be mom\, first-time mom or seventh-time mom\, you are welcome here. Whether you are an adoptive mom\, young mom\, seasoned mom\, foster mom\, stepmom or any other type of mom\, you are welcome here. Moms who have children\, no matter the age\, are welcome. Our gatherings are where moms can meet to share their hopes\, fears\, and insights in a format that works with their schedule. Come join us for honest conversations about the joys and frustrations of motherhood\, take a break from the routine of life\, have some fun\, make new friendships\, and build support networks. \nWe meet the first Saturday of each month\, from 9:30-11:30 a.m.\, September through May. Childcare is provided at all meetings. For more information\, go to thirdplacechicago.com/mops.
URL:https://redeemerparkridge.com/event/group-for-moms-mops-momsnext/
LOCATION:Third Place Chicago\, 4651 N. Milwaukee Avenue\, Chicago\, IL\, 60630\, United States
END:VEVENT
BEGIN:VEVENT
DTSTART;TZID=UTC:20191027T100000
DTEND;TZID=UTC:20191027T120000
DTSTAMP:20260422T170655
CREATED:20191016T210330Z
LAST-MODIFIED:20191016T212442Z
UID:218-1572170400-1572177600@redeemerparkridge.com
SUMMARY:Sunday Worship
DESCRIPTION:Join us at 10:00 am for a special combined service where we say farewell to Pastor Carol Briemeier and Pastor Fred Nelson. Lunch follows in the gym.
URL:https://redeemerparkridge.com/event/sunday-worship/
LOCATION:IL
CATEGORIES:Sunday Worship
END:VEVENT
BEGIN:VEVENT
DTSTART;TZID=UTC:20191020T083000
DTEND;TZID=UTC:20191020T100000
DTSTAMP:20260422T170655
CREATED:20191016T205749Z
LAST-MODIFIED:20191016T205749Z
UID:213-1571560200-1571565600@redeemerparkridge.com
SUMMARY:Traditional Sunday Worship
DESCRIPTION:Join us for Worship at 8:30 for our traditional service. \nThis week’s Sermon – God uses ordinary\, flawed human beings (like us) to extend his love and the Good News about his Son to people who long for the new life and new hope they bring.
URL:https://redeemerparkridge.com/event/traditional-sunday-worship/
LOCATION:Redeemer Park Ridge\, 1006 Gillick St\, Park Ridge\, IL\, 60068\, United States
CATEGORIES:Sunday Worship
END:VEVENT
END:VCALENDAR