BEGIN:VCALENDAR
VERSION:2.0
PRODID:-//Redeemer Church - ECPv6.15.11//NONSGML v1.0//EN
CALSCALE:GREGORIAN
METHOD:PUBLISH
X-WR-CALNAME:Redeemer Church
X-ORIGINAL-URL:https://redeemerparkridge.com
X-WR-CALDESC:Events for Redeemer Church
REFRESH-INTERVAL;VALUE=DURATION:PT1H
X-Robots-Tag:noindex
X-PUBLISHED-TTL:PT1H
BEGIN:VTIMEZONE
TZID:America/Chicago
BEGIN:DAYLIGHT
TZOFFSETFROM:-0600
TZOFFSETTO:-0500
TZNAME:CDT
DTSTART:20210314T080000
END:DAYLIGHT
BEGIN:STANDARD
TZOFFSETFROM:-0500
TZOFFSETTO:-0600
TZNAME:CST
DTSTART:20211107T070000
END:STANDARD
BEGIN:DAYLIGHT
TZOFFSETFROM:-0600
TZOFFSETTO:-0500
TZNAME:CDT
DTSTART:20220313T080000
END:DAYLIGHT
BEGIN:STANDARD
TZOFFSETFROM:-0500
TZOFFSETTO:-0600
TZNAME:CST
DTSTART:20221106T070000
END:STANDARD
BEGIN:DAYLIGHT
TZOFFSETFROM:-0600
TZOFFSETTO:-0500
TZNAME:CDT
DTSTART:20230312T080000
END:DAYLIGHT
BEGIN:STANDARD
TZOFFSETFROM:-0500
TZOFFSETTO:-0600
TZNAME:CST
DTSTART:20231105T070000
END:STANDARD
BEGIN:DAYLIGHT
TZOFFSETFROM:-0600
TZOFFSETTO:-0500
TZNAME:CDT
DTSTART:20240310T080000
END:DAYLIGHT
BEGIN:STANDARD
TZOFFSETFROM:-0500
TZOFFSETTO:-0600
TZNAME:CST
DTSTART:20241103T070000
END:STANDARD
BEGIN:DAYLIGHT
TZOFFSETFROM:-0600
TZOFFSETTO:-0500
TZNAME:CDT
DTSTART:20250309T080000
END:DAYLIGHT
BEGIN:STANDARD
TZOFFSETFROM:-0500
TZOFFSETTO:-0600
TZNAME:CST
DTSTART:20251102T070000
END:STANDARD
BEGIN:DAYLIGHT
TZOFFSETFROM:-0600
TZOFFSETTO:-0500
TZNAME:CDT
DTSTART:20260308T080000
END:DAYLIGHT
BEGIN:STANDARD
TZOFFSETFROM:-0500
TZOFFSETTO:-0600
TZNAME:CST
DTSTART:20261101T070000
END:STANDARD
END:VTIMEZONE
BEGIN:VEVENT
DTSTART;TZID=America/Chicago:20251204T110000
DTEND;TZID=America/Chicago:20251204T130000
DTSTAMP:20260421T190819
CREATED:20251112T154239Z
LAST-MODIFIED:20251112T154239Z
UID:3845-1764846000-1764853200@redeemerparkridge.com
SUMMARY:Senior Luncheon
DESCRIPTION:All seniors are invited to join us in the Sanctuary for fellowship and a meal together.
URL:https://redeemerparkridge.com/event/senior-luncheon-3/
LOCATION:Redeemer Park Ridge\, 1006 Gillick St\, Park Ridge\, IL\, 60068\, United States
END:VEVENT
BEGIN:VEVENT
DTSTART;TZID=America/Chicago:20251019T110000
DTEND;TZID=America/Chicago:20251019T120000
DTSTAMP:20260421T190819
CREATED:20231226T175314Z
LAST-MODIFIED:20250807T152746Z
UID:3012-1760871600-1760875200@redeemerparkridge.com
SUMMARY:Sunday Worship at 11:00am
DESCRIPTION:Join us at Redeemer Church for worship at 11:00m. We’ll hear God’s word\, share the Lord’s supper\, pray\, and sing songs of praise.
URL:https://redeemerparkridge.com/event/sunday-worship-at-1100am-3/
LOCATION:Redeemer Park Ridge\, 1006 Gillick St\, Park Ridge\, IL\, 60068\, United States
END:VEVENT
BEGIN:VEVENT
DTSTART;TZID=America/Chicago:20251019T083000
DTEND;TZID=America/Chicago:20251019T093000
DTSTAMP:20260421T190819
CREATED:20231226T175234Z
LAST-MODIFIED:20250807T152739Z
UID:3008-1760862600-1760866200@redeemerparkridge.com
SUMMARY:Sunday Worship at 8:30am
DESCRIPTION:Join us at Redeemer Church for worship at 8:30am. We’ll hear God’s word\, share the Lord’s supper\, pray\, and sing songs of praise.
URL:https://redeemerparkridge.com/event/sunday-worship-at-830am-3/
LOCATION:Redeemer Park Ridge\, 1006 Gillick St\, Park Ridge\, IL\, 60068\, United States
END:VEVENT
BEGIN:VEVENT
DTSTART;TZID=America/Chicago:20251012T110000
DTEND;TZID=America/Chicago:20251012T120000
DTSTAMP:20260421T190819
CREATED:20211224T162354Z
LAST-MODIFIED:20250807T152730Z
UID:2184-1760266800-1760270400@redeemerparkridge.com
SUMMARY:Sunday Worship at 11:00am
DESCRIPTION:Join us at Redeemer Church for Sunday worship at 11:00am. We’ll hear God’s word\, share the Lord’s supper\, pray\, and sing songs of praise.
URL:https://redeemerparkridge.com/event/sunday-worship-at-1100am/
LOCATION:Redeemer Park Ridge\, 1006 Gillick St\, Park Ridge\, IL\, 60068\, United States
END:VEVENT
BEGIN:VEVENT
DTSTART;TZID=America/Chicago:20251012T083000
DTEND;TZID=America/Chicago:20251012T093000
DTSTAMP:20260421T190819
CREATED:20211224T162436Z
LAST-MODIFIED:20250807T152723Z
UID:2187-1760257800-1760261400@redeemerparkridge.com
SUMMARY:Sunday Worship at 8:30am
DESCRIPTION:Join us at Redeemer Church for Sunday worship at 8:30am. We’ll hear God’s word\, share the Lord’s supper\, pray\, and sing songs of praise.
URL:https://redeemerparkridge.com/event/sunday-worship-at-830am/
LOCATION:Redeemer Park Ridge\, 1006 Gillick St\, Park Ridge\, IL\, 60068\, United States
END:VEVENT
BEGIN:VEVENT
DTSTART;TZID=America/Chicago:20251002T110000
DTEND;TZID=America/Chicago:20251002T130000
DTSTAMP:20260421T190819
CREATED:20250813T182133Z
LAST-MODIFIED:20250813T182133Z
UID:3723-1759402800-1759410000@redeemerparkridge.com
SUMMARY:Senior Luncheon
DESCRIPTION:All seniors are invited to join us in the Sanctuary for fellowship and a meal together.
URL:https://redeemerparkridge.com/event/senior-luncheon-2/
LOCATION:Redeemer Park Ridge\, 1006 Gillick St\, Park Ridge\, IL\, 60068\, United States
END:VEVENT
BEGIN:VEVENT
DTSTART;TZID=America/Chicago:20250907T100000
DTEND;TZID=America/Chicago:20250907T120000
DTSTAMP:20260421T190819
CREATED:20240626T140004Z
LAST-MODIFIED:20250903T192737Z
UID:3280-1757239200-1757246400@redeemerparkridge.com
SUMMARY:Sunday Worship & Fall Kickoff Picnic
DESCRIPTION:Join us for a combined worship service at 10am\, followed by a good meal and good conversation as we kick off Fall 2025!
URL:https://redeemerparkridge.com/event/sunday-worship-fall-kickoff/
LOCATION:Redeemer Park Ridge\, 1006 Gillick St\, Park Ridge\, IL\, 60068\, United States
END:VEVENT
BEGIN:VEVENT
DTSTART;TZID=America/Chicago:20250629T100000
DTEND;TZID=America/Chicago:20250629T110000
DTSTAMP:20260421T190819
CREATED:20240626T134024Z
LAST-MODIFIED:20250423T185846Z
UID:3262-1751191200-1751194800@redeemerparkridge.com
SUMMARY:Special Schedule: One Worship Service at 10:00am
DESCRIPTION:Join us at Redeemer Church for Sunday worship at 10:00am. After worship\, we’ll celebrate Deacon Karen’s service at Redeemer with a meal and fellowship together.
URL:https://redeemerparkridge.com/event/sunday-worship-one-service-at-1000am/
LOCATION:Redeemer Park Ridge\, 1006 Gillick St\, Park Ridge\, IL\, 60068\, United States
END:VEVENT
BEGIN:VEVENT
DTSTART;VALUE=DATE:20250622
DTEND;VALUE=DATE:20250623
DTSTAMP:20260421T190819
CREATED:20240523T211851Z
LAST-MODIFIED:20250423T190131Z
UID:3207-1750550400-1750636799@redeemerparkridge.com
SUMMARY:No Worship Services (Faith-in-Action Weekend)
DESCRIPTION:On June 20-22\, we’ll practice being God’s church a little differently from normal. We’re canceling our usual worship services\, and instead worshiping God through acts of service to our neighbors.
URL:https://redeemerparkridge.com/event/no-worship-services-faith-in-action-weekend/
LOCATION:IL
END:VEVENT
BEGIN:VEVENT
DTSTART;TZID=America/Chicago:20250601T100000
DTEND;TZID=America/Chicago:20250601T110000
DTSTAMP:20260421T190819
CREATED:20240523T210944Z
LAST-MODIFIED:20250423T185931Z
UID:3179-1748772000-1748775600@redeemerparkridge.com
SUMMARY:Special Schedule: One Worship Service at 10:00am
DESCRIPTION:On Sunday\, June 1\, we’ll have a single worship service\, at 10am\, followed by our annual congregational meeting. Everyone is welcome as we hear God’s word\, share the Lord’s supper\, pray\, sing songs of praise\, and make plans for the year ahead. \n 
URL:https://redeemerparkridge.com/event/sunday-worship-at-1000am-one-service/
LOCATION:Redeemer Park Ridge\, 1006 Gillick St\, Park Ridge\, IL\, 60068\, United States
END:VEVENT
BEGIN:VEVENT
DTSTART;TZID=America/Chicago:20250418T183000
DTEND;TZID=America/Chicago:20250418T193000
DTSTAMP:20260421T190819
CREATED:20200410T181300Z
LAST-MODIFIED:20250409T140547Z
UID:881-1745001000-1745004600@redeemerparkridge.com
SUMMARY:Good Friday Worship
DESCRIPTION:Join us for worship as we remember Jesus’ self-giving death on a cross.
URL:https://redeemerparkridge.com/event/good-friday-worship/
LOCATION:Redeemer Park Ridge\, 1006 Gillick St\, Park Ridge\, IL\, 60068\, United States
END:VEVENT
BEGIN:VEVENT
DTSTART;TZID=America/Chicago:20250418T173000
DTEND;TZID=America/Chicago:20250418T181500
DTSTAMP:20260421T190819
CREATED:20230328T202949Z
LAST-MODIFIED:20250409T140605Z
UID:2708-1744997400-1745000100@redeemerparkridge.com
SUMMARY:Shared Meal
DESCRIPTION:Come to the Redeemer Gym for a shared meal anytime between 5:30pm and 6:15pm\, on Friday\, April 18\, prior to our Good Friday worship service.
URL:https://redeemerparkridge.com/event/shared-meal/
LOCATION:Redeemer Park Ridge\, 1006 Gillick St\, Park Ridge\, IL\, 60068\, United States
END:VEVENT
BEGIN:VEVENT
DTSTART;TZID=America/Chicago:20250417T190000
DTEND;TZID=America/Chicago:20250417T200000
DTSTAMP:20260421T190819
CREATED:20200403T215531Z
LAST-MODIFIED:20250311T182536Z
UID:871-1744916400-1744920000@redeemerparkridge.com
SUMMARY:Maundy Thursday Worship with Messiah Lutheran Church
DESCRIPTION:Join us for a special joint worship with Messiah Lutheran Church\, at Messiah (1605 Vernon Ave\, Park Ridge\, IL)\, as we remember Jesus’ last evening spent with his disciples.
URL:https://redeemerparkridge.com/event/maundy-thursday-worship/
LOCATION:Messiah Lutheran Church\, 1605 Vernon Avenue\, Park Ridge\, IL\, 60068\, United States
END:VEVENT
BEGIN:VEVENT
DTSTART;TZID=America/Chicago:20240928T100000
DTEND;TZID=America/Chicago:20240928T110000
DTSTAMP:20260421T190819
CREATED:20240925T215304Z
LAST-MODIFIED:20240925T215304Z
UID:3359-1727517600-1727521200@redeemerparkridge.com
SUMMARY:Funeral for Al Dummler
DESCRIPTION:Join us as we celebrate the life of our beloved brother in Christ\, Al Dummler.
URL:https://redeemerparkridge.com/event/funeral-for-al-dummler/
LOCATION:Redeemer Park Ridge\, 1006 Gillick St\, Park Ridge\, IL\, 60068\, United States
END:VEVENT
BEGIN:VEVENT
DTSTART;TZID=America/Chicago:20240218T100000
DTEND;TZID=America/Chicago:20240218T111500
DTSTAMP:20260421T190819
CREATED:20240123T173753Z
LAST-MODIFIED:20240123T173753Z
UID:3039-1708250400-1708254900@redeemerparkridge.com
SUMMARY:Special Schedule: Worship at 10am
DESCRIPTION:On Sunday\, February 18\, we will have a single worship service\, at 10am. We’ll be joined by Ryan Karp from Chosen People Ministries\, who will be sharing a special teaching titled “Messiah in the Passover.”
URL:https://redeemerparkridge.com/event/special-schedule-worship-at-10am/
LOCATION:Redeemer Park Ridge\, 1006 Gillick St\, Park Ridge\, IL\, 60068\, United States
END:VEVENT
BEGIN:VEVENT
DTSTART;TZID=America/Chicago:20240210T090000
DTEND;TZID=America/Chicago:20240211T150000
DTSTAMP:20260421T190819
CREATED:20230714T184301Z
LAST-MODIFIED:20240206T210652Z
UID:2832-1707555600-1707663600@redeemerparkridge.com
SUMMARY:Quilting
DESCRIPTION:For those of you who enjoy quilting and time spent with other quilters\, come join us on Saturday\, February 10\, from 9:00am to 3:00pm in the Gym. People who know how to sew are especially needed (although\, as always\, all are welcome regardless of experience). Knitters are also welcome! Lunch and refreshments will be provided.
URL:https://redeemerparkridge.com/event/quilting/
LOCATION:Redeemer Park Ridge\, 1006 Gillick St\, Park Ridge\, IL\, 60068\, United States
END:VEVENT
BEGIN:VEVENT
DTSTART;TZID=America/Chicago:20231118T180000
DTEND;TZID=America/Chicago:20231118T210000
DTSTAMP:20260421T190819
CREATED:20191121T233432Z
LAST-MODIFIED:20231101T213742Z
UID:560-1700330400-1700341200@redeemerparkridge.com
SUMMARY:Thanksgiving Potluck
DESCRIPTION:Let’s be thankful together at Third Place Chicago’s Thanksgiving Potluck! This will be a time for food\, games\, and conversation. Bring something to share\, or just bring yourself!
URL:https://redeemerparkridge.com/event/thanksgiving-potluck/
LOCATION:Third Place Chicago\, 4651 N. Milwaukee Avenue\, Chicago\, IL\, 60630\, United States
END:VEVENT
BEGIN:VEVENT
DTSTART;TZID=America/Chicago:20230915T190000
DTEND;TZID=America/Chicago:20230915T210000
DTSTAMP:20260421T190819
CREATED:20191016T211817Z
LAST-MODIFIED:20230913T124254Z
UID:229-1694804400-1694811600@redeemerparkridge.com
SUMMARY:Cancelled - Game Night at Third Place Chicago
DESCRIPTION:Unfortunately\, our game night scheduled for September 15 has been cancelled.
URL:https://redeemerparkridge.com/event/game-night/
LOCATION:Third Place Chicago\, 4651 N. Milwaukee Avenue\, Chicago\, IL\, 60630\, United States
END:VEVENT
BEGIN:VEVENT
DTSTART;TZID=America/Chicago:20230910T100000
DTEND;TZID=America/Chicago:20230910T123000
DTSTAMP:20260421T190819
CREATED:20191016T212618Z
LAST-MODIFIED:20230822T164710Z
UID:234-1694340000-1694349000@redeemerparkridge.com
SUMMARY:Sunday Worship & Fall Kickoff Picnic
DESCRIPTION:Join us for a combined worship service at 10am\, followed by a good meal and good conversation as we kick off Fall 2023!
URL:https://redeemerparkridge.com/event/sunday-worship-and-fall-kickoff/
LOCATION:Redeemer Park Ridge\, 1006 Gillick St\, Park Ridge\, IL\, 60068\, United States
CATEGORIES:Sunday Worship
END:VEVENT
BEGIN:VEVENT
DTSTART;TZID=America/Chicago:20230715T150000
DTEND;TZID=America/Chicago:20230715T170000
DTSTAMP:20260421T190819
CREATED:20230714T184913Z
LAST-MODIFIED:20230714T185238Z
UID:2835-1689433200-1689440400@redeemerparkridge.com
SUMMARY:Popsicles in the Park
DESCRIPTION:MOPS/MOMSnext invites families to gather from 3-5pm at Wilson Park (4630 N. Milwaukee Ave.\, Chicago\, IL 60630). Wilson Park has a sand area/sand volleyball court\, a splash pad\, a playground\, tennis courts\, baseball fields\, and at least one basketball hoop.
URL:https://redeemerparkridge.com/event/popsicles-in-the-park/
LOCATION:Wilson Park\, 4630 N. Milwaukee Ave.\, Chicago\, IL\, 60630
END:VEVENT
BEGIN:VEVENT
DTSTART;TZID=America/Chicago:20230611T100000
DTEND;TZID=America/Chicago:20230611T110000
DTSTAMP:20260421T190819
CREATED:20220527T125015Z
LAST-MODIFIED:20230516T185641Z
UID:2358-1686477600-1686481200@redeemerparkridge.com
SUMMARY:Special Schedule: One Worship Service at 10:00am
DESCRIPTION:On Sunday\, June 11\, we’ll have a single worship service\, at 10am\, followed by our annual congregational meeting. Everyone is welcome as we hear God’s word\, share the Lord’s supper\, pray\, sing songs of praise\, and make plans for the year ahead.
URL:https://redeemerparkridge.com/event/special-schedule-one-worship-service-at-1000am/
LOCATION:Redeemer Park Ridge\, 1006 Gillick St\, Park Ridge\, IL\, 60068\, United States
END:VEVENT
BEGIN:VEVENT
DTSTART;VALUE=DATE:20230519
DTEND;VALUE=DATE:20230523
DTSTAMP:20260421T190819
CREATED:20210829T030142Z
LAST-MODIFIED:20230516T185519Z
UID:2058-1684454400-1684799999@redeemerparkridge.com
SUMMARY:No Worship Services (Faith-in-Action Weekend)
DESCRIPTION:On May 19-22\, we’ll practice being God’s church a little differently from normal. We’re canceling our usual worship services\, and instead worshiping God through acts of service to our neighbors.
URL:https://redeemerparkridge.com/event/no-worship-august-29/
LOCATION:IL
END:VEVENT
BEGIN:VEVENT
DTSTART;TZID=America/Chicago:20230430T110000
DTEND;TZID=America/Chicago:20230430T123000
DTSTAMP:20260421T190819
CREATED:20230419T160321Z
LAST-MODIFIED:20230426T152020Z
UID:2746-1682852400-1682857800@redeemerparkridge.com
SUMMARY:Refugee Journey Simulation
DESCRIPTION:Exodus World Service will be leading us through an educational (and kid-friendly) Refugee Journey Simulation. Everyone is welcome to join.
URL:https://redeemerparkridge.com/event/refugee-journey-simulation/
LOCATION:Redeemer Park Ridge\, 1006 Gillick St\, Park Ridge\, IL\, 60068\, United States
END:VEVENT
BEGIN:VEVENT
DTSTART;TZID=America/Chicago:20230430T100000
DTEND;TZID=America/Chicago:20230430T104500
DTSTAMP:20260421T190819
CREATED:20230419T160143Z
LAST-MODIFIED:20230426T152006Z
UID:2741-1682848800-1682851500@redeemerparkridge.com
SUMMARY:Sunday Worship at 10am
DESCRIPTION:On Sunday\, April 30\, we will have a single worship service\, at 10am\, followed by a Refugee Journey Simulation led by Exodus World Service. Everyone (and all ages) are welcome!
URL:https://redeemerparkridge.com/event/sunday-worship-at-10am/
LOCATION:Redeemer Park Ridge\, 1006 Gillick St\, Park Ridge\, IL\, 60068\, United States
END:VEVENT
BEGIN:VEVENT
DTSTART;TZID=America/Chicago:20230115T100000
DTEND;TZID=America/Chicago:20230115T110000
DTSTAMP:20260421T190819
CREATED:20200403T210246Z
LAST-MODIFIED:20230111T173132Z
UID:861-1673776800-1673780400@redeemerparkridge.com
SUMMARY:Sunday Morning Online Worship
DESCRIPTION:On Sunday\, January 15\, our worship will be online-only\, at 10am\, on Zoom\, as we gather from our homes to praise the Lord! \nWe will celebrate holy communion together\, trusting in Christ’s presence with us. Before our worship\, gather your own communion elements\, which we’ll take together. Whatever you have on hand is fine—just a bite of something to eat and sip of something to drink. \nIf you’d like to participate in our online worship gathering\, email peter@redeemerparkridge.com for the link.
URL:https://redeemerparkridge.com/event/sunday-morning-online-worship-3/
LOCATION:Online Meeting
END:VEVENT
BEGIN:VEVENT
DTSTART;TZID=America/Chicago:20221122T193000
DTEND;TZID=America/Chicago:20221122T201500
DTSTAMP:20260421T190819
CREATED:20221115T145748Z
LAST-MODIFIED:20221115T145748Z
UID:2542-1669145400-1669148100@redeemerparkridge.com
SUMMARY:Thanksgiving Worship
DESCRIPTION:Join us\, together with other Park Ridge churches\, for a community Thanksgiving worship service at Redeemer Church (1006 Gillick Street\, Park Ridge).
URL:https://redeemerparkridge.com/event/thanksgiving-worship/
LOCATION:Redeemer Park Ridge\, 1006 Gillick St\, Park Ridge\, IL\, 60068\, United States
END:VEVENT
BEGIN:VEVENT
DTSTART;TZID=America/Chicago:20220809T180000
DTEND;TZID=America/Chicago:20220809T200000
DTSTAMP:20260421T190819
CREATED:20220715T144214Z
LAST-MODIFIED:20220715T144214Z
UID:2417-1660068000-1660075200@redeemerparkridge.com
SUMMARY:Keeler Garden(s) Party
DESCRIPTION:Come connect with nature and friends at Keeler Gardens (3631 N Keeler Ave\, Chicago\, IL 60641)\, hosted by Ed Caplan and Gina Iliopoulos. We’ll gather for a relaxing evening together (around a fire if the weather is cool). Bring something to share if you like\, and your favorite chair.
URL:https://redeemerparkridge.com/event/keeler-gardens-party/
LOCATION:Keeler Gardens\, 3631 N Keeler Ave\, Chicago\, IL\, 60641\, United States
END:VEVENT
BEGIN:VEVENT
DTSTART;TZID=America/Chicago:20220723T110000
DTEND;TZID=America/Chicago:20220723T140000
DTSTAMP:20260421T190819
CREATED:20210507T215242Z
LAST-MODIFIED:20220707T172531Z
UID:1920-1658574000-1658584800@redeemerparkridge.com
SUMMARY:Backpack & Food Drive
DESCRIPTION:Stop by for two opportunities to care for our neighbors\, Saturday\, July 23\, between 11am and 2pm! \nDrop off non-perishable food items for our neighbors at St. Cyprian Food Pantry. \nAnd bring new school supplies for the Kids Above All Back-to-School Backpack Drive. Click here for a list of needed items. \nContact karen@redeemerparkridge.com with any questions.
URL:https://redeemerparkridge.com/event/food-collection/
LOCATION:Third Place Chicago\, 4651 N. Milwaukee Avenue\, Chicago\, IL\, 60630\, United States
END:VEVENT
BEGIN:VEVENT
DTSTART;TZID=America/Chicago:20220716T180000
DTEND;TZID=America/Chicago:20220716T200000
DTSTAMP:20260421T190819
CREATED:20220707T172817Z
LAST-MODIFIED:20220707T172817Z
UID:2405-1657994400-1658001600@redeemerparkridge.com
SUMMARY:Jam Session
DESCRIPTION:Come be a part of a jam session where everyone is welcome regardless of musical skill! Don’t play an instrument or sing? We’ll meet on Saturday\, July 16\, at 6pm\, in the Sanctuary at Redeemer. Come\, enjoy the music\, and share in fellowship. Appetizers and drinks will be served. Feel free to bring something to share if you’d like. Childcare will also be provided. No RSVP needed\, and all ages are welcome. Questions? Email Mandi Glowen.
URL:https://redeemerparkridge.com/event/jam-session/
LOCATION:Redeemer Park Ridge\, 1006 Gillick St\, Park Ridge\, IL\, 60068\, United States
END:VEVENT
BEGIN:VEVENT
DTSTART;TZID=America/Chicago:20220710T123000
DTEND;TZID=America/Chicago:20220710T140000
DTSTAMP:20260421T190819
CREATED:20220701T160303Z
LAST-MODIFIED:20220701T160303Z
UID:2397-1657456200-1657461600@redeemerparkridge.com
SUMMARY:Ice Cream Social
DESCRIPTION:Everyone is invited to an old fashioned ice cream social at Redeemer Church on Sunday\, July 10\, from 12:30-2:00pm. We’ll have plenty of ice cream\, complete with toppings!
URL:https://redeemerparkridge.com/event/ice-cream-social/
LOCATION:Redeemer Park Ridge\, 1006 Gillick St\, Park Ridge\, IL\, 60068\, United States
END:VEVENT
END:VCALENDAR