BEGIN:VCALENDAR
VERSION:2.0
PRODID:-//Redeemer Church - ECPv6.15.11//NONSGML v1.0//EN
CALSCALE:GREGORIAN
METHOD:PUBLISH
X-WR-CALNAME:Redeemer Church
X-ORIGINAL-URL:https://redeemerparkridge.com
X-WR-CALDESC:Events for Redeemer Church
REFRESH-INTERVAL;VALUE=DURATION:PT1H
X-Robots-Tag:noindex
X-PUBLISHED-TTL:PT1H
BEGIN:VTIMEZONE
TZID:America/Chicago
BEGIN:DAYLIGHT
TZOFFSETFROM:-0600
TZOFFSETTO:-0500
TZNAME:CDT
DTSTART:20180311T080000
END:DAYLIGHT
BEGIN:STANDARD
TZOFFSETFROM:-0500
TZOFFSETTO:-0600
TZNAME:CST
DTSTART:20181104T070000
END:STANDARD
BEGIN:DAYLIGHT
TZOFFSETFROM:-0600
TZOFFSETTO:-0500
TZNAME:CDT
DTSTART:20190310T080000
END:DAYLIGHT
BEGIN:STANDARD
TZOFFSETFROM:-0500
TZOFFSETTO:-0600
TZNAME:CST
DTSTART:20191103T070000
END:STANDARD
BEGIN:DAYLIGHT
TZOFFSETFROM:-0600
TZOFFSETTO:-0500
TZNAME:CDT
DTSTART:20200308T080000
END:DAYLIGHT
BEGIN:STANDARD
TZOFFSETFROM:-0500
TZOFFSETTO:-0600
TZNAME:CST
DTSTART:20201101T070000
END:STANDARD
BEGIN:DAYLIGHT
TZOFFSETFROM:-0600
TZOFFSETTO:-0500
TZNAME:CDT
DTSTART:20210314T080000
END:DAYLIGHT
BEGIN:STANDARD
TZOFFSETFROM:-0500
TZOFFSETTO:-0600
TZNAME:CST
DTSTART:20211107T070000
END:STANDARD
BEGIN:DAYLIGHT
TZOFFSETFROM:-0600
TZOFFSETTO:-0500
TZNAME:CDT
DTSTART:20220313T080000
END:DAYLIGHT
BEGIN:STANDARD
TZOFFSETFROM:-0500
TZOFFSETTO:-0600
TZNAME:CST
DTSTART:20221106T070000
END:STANDARD
BEGIN:DAYLIGHT
TZOFFSETFROM:-0600
TZOFFSETTO:-0500
TZNAME:CDT
DTSTART:20230312T080000
END:DAYLIGHT
BEGIN:STANDARD
TZOFFSETFROM:-0500
TZOFFSETTO:-0600
TZNAME:CST
DTSTART:20231105T070000
END:STANDARD
BEGIN:DAYLIGHT
TZOFFSETFROM:-0600
TZOFFSETTO:-0500
TZNAME:CDT
DTSTART:20240310T080000
END:DAYLIGHT
BEGIN:STANDARD
TZOFFSETFROM:-0500
TZOFFSETTO:-0600
TZNAME:CST
DTSTART:20241103T070000
END:STANDARD
END:VTIMEZONE
BEGIN:VTIMEZONE
TZID:UTC
BEGIN:STANDARD
TZOFFSETFROM:+0000
TZOFFSETTO:+0000
TZNAME:UTC
DTSTART:20190101T000000
END:STANDARD
END:VTIMEZONE
BEGIN:VEVENT
DTSTART;TZID=America/Chicago:20230611T100000
DTEND;TZID=America/Chicago:20230611T110000
DTSTAMP:20260422T170619
CREATED:20220527T125015Z
LAST-MODIFIED:20230516T185641Z
UID:2358-1686477600-1686481200@redeemerparkridge.com
SUMMARY:Special Schedule: One Worship Service at 10:00am
DESCRIPTION:On Sunday\, June 11\, we’ll have a single worship service\, at 10am\, followed by our annual congregational meeting. Everyone is welcome as we hear God’s word\, share the Lord’s supper\, pray\, sing songs of praise\, and make plans for the year ahead.
URL:https://redeemerparkridge.com/event/special-schedule-one-worship-service-at-1000am/
LOCATION:Redeemer Park Ridge\, 1006 Gillick St\, Park Ridge\, IL\, 60068\, United States
END:VEVENT
BEGIN:VEVENT
DTSTART;VALUE=DATE:20230519
DTEND;VALUE=DATE:20230523
DTSTAMP:20260422T170619
CREATED:20210829T030142Z
LAST-MODIFIED:20230516T185519Z
UID:2058-1684454400-1684799999@redeemerparkridge.com
SUMMARY:No Worship Services (Faith-in-Action Weekend)
DESCRIPTION:On May 19-22\, we’ll practice being God’s church a little differently from normal. We’re canceling our usual worship services\, and instead worshiping God through acts of service to our neighbors.
URL:https://redeemerparkridge.com/event/no-worship-august-29/
LOCATION:IL
END:VEVENT
BEGIN:VEVENT
DTSTART;TZID=America/Chicago:20230430T110000
DTEND;TZID=America/Chicago:20230430T123000
DTSTAMP:20260422T170619
CREATED:20230419T160321Z
LAST-MODIFIED:20230426T152020Z
UID:2746-1682852400-1682857800@redeemerparkridge.com
SUMMARY:Refugee Journey Simulation
DESCRIPTION:Exodus World Service will be leading us through an educational (and kid-friendly) Refugee Journey Simulation. Everyone is welcome to join.
URL:https://redeemerparkridge.com/event/refugee-journey-simulation/
LOCATION:Redeemer Park Ridge\, 1006 Gillick St\, Park Ridge\, IL\, 60068\, United States
END:VEVENT
BEGIN:VEVENT
DTSTART;TZID=America/Chicago:20230430T100000
DTEND;TZID=America/Chicago:20230430T104500
DTSTAMP:20260422T170619
CREATED:20230419T160143Z
LAST-MODIFIED:20230426T152006Z
UID:2741-1682848800-1682851500@redeemerparkridge.com
SUMMARY:Sunday Worship at 10am
DESCRIPTION:On Sunday\, April 30\, we will have a single worship service\, at 10am\, followed by a Refugee Journey Simulation led by Exodus World Service. Everyone (and all ages) are welcome!
URL:https://redeemerparkridge.com/event/sunday-worship-at-10am/
LOCATION:Redeemer Park Ridge\, 1006 Gillick St\, Park Ridge\, IL\, 60068\, United States
END:VEVENT
BEGIN:VEVENT
DTSTART;TZID=America/Chicago:20230115T100000
DTEND;TZID=America/Chicago:20230115T110000
DTSTAMP:20260422T170619
CREATED:20200403T210246Z
LAST-MODIFIED:20230111T173132Z
UID:861-1673776800-1673780400@redeemerparkridge.com
SUMMARY:Sunday Morning Online Worship
DESCRIPTION:On Sunday\, January 15\, our worship will be online-only\, at 10am\, on Zoom\, as we gather from our homes to praise the Lord! \nWe will celebrate holy communion together\, trusting in Christ’s presence with us. Before our worship\, gather your own communion elements\, which we’ll take together. Whatever you have on hand is fine—just a bite of something to eat and sip of something to drink. \nIf you’d like to participate in our online worship gathering\, email peter@redeemerparkridge.com for the link.
URL:https://redeemerparkridge.com/event/sunday-morning-online-worship-3/
LOCATION:Online Meeting
END:VEVENT
BEGIN:VEVENT
DTSTART;TZID=America/Chicago:20221122T193000
DTEND;TZID=America/Chicago:20221122T201500
DTSTAMP:20260422T170619
CREATED:20221115T145748Z
LAST-MODIFIED:20221115T145748Z
UID:2542-1669145400-1669148100@redeemerparkridge.com
SUMMARY:Thanksgiving Worship
DESCRIPTION:Join us\, together with other Park Ridge churches\, for a community Thanksgiving worship service at Redeemer Church (1006 Gillick Street\, Park Ridge).
URL:https://redeemerparkridge.com/event/thanksgiving-worship/
LOCATION:Redeemer Park Ridge\, 1006 Gillick St\, Park Ridge\, IL\, 60068\, United States
END:VEVENT
BEGIN:VEVENT
DTSTART;TZID=America/Chicago:20220809T180000
DTEND;TZID=America/Chicago:20220809T200000
DTSTAMP:20260422T170619
CREATED:20220715T144214Z
LAST-MODIFIED:20220715T144214Z
UID:2417-1660068000-1660075200@redeemerparkridge.com
SUMMARY:Keeler Garden(s) Party
DESCRIPTION:Come connect with nature and friends at Keeler Gardens (3631 N Keeler Ave\, Chicago\, IL 60641)\, hosted by Ed Caplan and Gina Iliopoulos. We’ll gather for a relaxing evening together (around a fire if the weather is cool). Bring something to share if you like\, and your favorite chair.
URL:https://redeemerparkridge.com/event/keeler-gardens-party/
LOCATION:Keeler Gardens\, 3631 N Keeler Ave\, Chicago\, IL\, 60641\, United States
END:VEVENT
BEGIN:VEVENT
DTSTART;TZID=America/Chicago:20220723T110000
DTEND;TZID=America/Chicago:20220723T140000
DTSTAMP:20260422T170619
CREATED:20210507T215242Z
LAST-MODIFIED:20220707T172531Z
UID:1920-1658574000-1658584800@redeemerparkridge.com
SUMMARY:Backpack & Food Drive
DESCRIPTION:Stop by for two opportunities to care for our neighbors\, Saturday\, July 23\, between 11am and 2pm! \nDrop off non-perishable food items for our neighbors at St. Cyprian Food Pantry. \nAnd bring new school supplies for the Kids Above All Back-to-School Backpack Drive. Click here for a list of needed items. \nContact karen@redeemerparkridge.com with any questions.
URL:https://redeemerparkridge.com/event/food-collection/
LOCATION:Third Place Chicago\, 4651 N. Milwaukee Avenue\, Chicago\, IL\, 60630\, United States
END:VEVENT
BEGIN:VEVENT
DTSTART;TZID=America/Chicago:20220716T180000
DTEND;TZID=America/Chicago:20220716T200000
DTSTAMP:20260422T170619
CREATED:20220707T172817Z
LAST-MODIFIED:20220707T172817Z
UID:2405-1657994400-1658001600@redeemerparkridge.com
SUMMARY:Jam Session
DESCRIPTION:Come be a part of a jam session where everyone is welcome regardless of musical skill! Don’t play an instrument or sing? We’ll meet on Saturday\, July 16\, at 6pm\, in the Sanctuary at Redeemer. Come\, enjoy the music\, and share in fellowship. Appetizers and drinks will be served. Feel free to bring something to share if you’d like. Childcare will also be provided. No RSVP needed\, and all ages are welcome. Questions? Email Mandi Glowen.
URL:https://redeemerparkridge.com/event/jam-session/
LOCATION:Redeemer Park Ridge\, 1006 Gillick St\, Park Ridge\, IL\, 60068\, United States
END:VEVENT
BEGIN:VEVENT
DTSTART;TZID=America/Chicago:20220710T123000
DTEND;TZID=America/Chicago:20220710T140000
DTSTAMP:20260422T170619
CREATED:20220701T160303Z
LAST-MODIFIED:20220701T160303Z
UID:2397-1657456200-1657461600@redeemerparkridge.com
SUMMARY:Ice Cream Social
DESCRIPTION:Everyone is invited to an old fashioned ice cream social at Redeemer Church on Sunday\, July 10\, from 12:30-2:00pm. We’ll have plenty of ice cream\, complete with toppings!
URL:https://redeemerparkridge.com/event/ice-cream-social/
LOCATION:Redeemer Park Ridge\, 1006 Gillick St\, Park Ridge\, IL\, 60068\, United States
END:VEVENT
BEGIN:VEVENT
DTSTART;TZID=America/Chicago:20220625T100000
DTEND;TZID=America/Chicago:20220625T120000
DTSTAMP:20260422T170619
CREATED:20220603T151940Z
LAST-MODIFIED:20220603T151940Z
UID:2366-1656151200-1656158400@redeemerparkridge.com
SUMMARY:Park Cleanup & Food Collection
DESCRIPTION:On Saturday\, June 25\, come to Third Place Chicago (4651 N Milwaukee Avenue) at 10am and help care for creation as we work together to pick up trash at Wilson Park and in front of Third Place Chicago. All supplies will be provided\, but feel free to bring your own gardening gloves if you prefer—and dress for the weather.  We’ll also be collecting food for St. Cyprian’s Food Pantry\, so consider bringing a non-perishable food item with you. Questions? Contact Deacon Karen Katamay.
URL:https://redeemerparkridge.com/event/park-cleanup-food-collection/
LOCATION:Third Place Chicago\, 4651 N. Milwaukee Avenue\, Chicago\, IL\, 60630\, United States
END:VEVENT
BEGIN:VEVENT
DTSTART;TZID=America/Chicago:20220519T190000
DTEND;TZID=America/Chicago:20220519T200000
DTSTAMP:20260422T170619
CREATED:20210115T084124Z
LAST-MODIFIED:20220429T183221Z
UID:1645-1652986800-1652990400@redeemerparkridge.com
SUMMARY:Women's Connection Group
DESCRIPTION:Our women’s group meets every other Thursday\, from 7-8pm\, on Zoom. All women are welcome to participate. For more information\, contact Karen Katamay at karen@redeemerparkridge.com.
URL:https://redeemerparkridge.com/event/womens-connection-group/
LOCATION:Online Meeting
END:VEVENT
BEGIN:VEVENT
DTSTART;TZID=America/Chicago:20220331T193000
DTEND;TZID=America/Chicago:20220331T203000
DTSTAMP:20260422T170619
CREATED:20201015T000220Z
LAST-MODIFIED:20220318T132210Z
UID:828-1648755000-1648758600@redeemerparkridge.com
SUMMARY:Thursday Evening Online Bible Study
DESCRIPTION:Everyone is invited to participate in a Bible study via a Zoom meeting. This is a chance for us to connect and check in with each other\, and also to study God’s word together.  No preparation is needed. Just join if you can! \nIf you’d like to participate\, email peter@redeemerparkridge.com.
URL:https://redeemerparkridge.com/event/thursday-evening-online-bible-study/
LOCATION:Online Meeting
END:VEVENT
BEGIN:VEVENT
DTSTART;TZID=America/Chicago:20220123T100000
DTEND;TZID=America/Chicago:20220123T104500
DTSTAMP:20260422T170619
CREATED:20200501T194000Z
LAST-MODIFIED:20220111T231501Z
UID:965-1642932000-1642934700@redeemerparkridge.com
SUMMARY:Sunday Morning Online Worship
DESCRIPTION:We will gather from our homes to praise the Lord! \nWe will celebrate holy communion together\, trusting in Christ’s presence with us. Before our worship\, gather your own communion elements\, which we’ll take together. Whatever you have on hand is fine—just a bite of something to eat and sip of something to drink. \nIf you’d like to participate in our online worship gathering\, email dan@redeemerparkridge.com.
URL:https://redeemerparkridge.com/event/sunday-morning-online-worship/
LOCATION:Online Meeting
END:VEVENT
BEGIN:VEVENT
DTSTART;TZID=America/Chicago:20211211T163000
DTEND;TZID=America/Chicago:20211211T180000
DTSTAMP:20260422T170619
CREATED:20191206T003927Z
LAST-MODIFIED:20211210T211902Z
UID:604-1639240200-1639245600@redeemerparkridge.com
SUMMARY:Outdoor Christmas Party
DESCRIPTION:Come to Redeemer this Saturday\, December 11\, from 4:30-6:00pm for an outdoor Christmas party. We’ll spend time outside in fellowship with hot coffee and a hot cocoa bar\, time for singing Christmas carols\, and fire pits to stay warm and make s’mores. It’s looking like the weather will probably be pretty pleasant\, so invite a friend and come have some Christmas fun!
URL:https://redeemerparkridge.com/event/christmas-party/
LOCATION:Redeemer Park Ridge\, 1006 Gillick St\, Park Ridge\, IL\, 60068\, United States
END:VEVENT
BEGIN:VEVENT
DTSTART;TZID=America/Chicago:20210810T120000
DTEND;TZID=America/Chicago:20210810T123000
DTSTAMP:20260422T170619
CREATED:20200403T210423Z
LAST-MODIFIED:20210803T212318Z
UID:864-1628596800-1628598600@redeemerparkridge.com
SUMMARY:Tuesday Midday Online Bible Study
DESCRIPTION:Tuesday\, August 10\, at noon\, everyone is invited to participate in a Bible study via a Zoom meeting. This is a chance for us to connect and check in with each other\, and also to study God’s word together.  No preparation is needed. Just join if you can! \nIf you’d like to participate\, email peter@redeemerchicago.com.
URL:https://redeemerparkridge.com/event/tuesday-midday-bible-study-2/
LOCATION:Online Meeting
END:VEVENT
BEGIN:VEVENT
DTSTART;TZID=America/Chicago:20210417T100000
DTEND;TZID=America/Chicago:20210417T140000
DTSTAMP:20260422T170619
CREATED:20200817T011039Z
LAST-MODIFIED:20210407T111631Z
UID:1282-1618653600-1618668000@redeemerparkridge.com
SUMMARY:Diaper/Baby Wipes & Food Collection
DESCRIPTION:Stop by Third Place Chicago to support St. Cyprian’s Food Pantry and help parents in need! Donate baby wipes\, diapers of any size\, and nonperishable foods anytime between 10am and 2pm on Saturday\, April 17. \nFood donations will be passed on to St. Cyprian’s Food Pantry\, and baby wipes and diapers will be given to Kids Above All. Kids Above All also has an Amazon wish list link here\, in case you would prefer to donate that way. \nContact karen@redeemerchicago.com with any questions.
URL:https://redeemerparkridge.com/event/food-donation-for-st-cyprians-food-pantry/
LOCATION:Third Place Chicago\, 4651 N. Milwaukee Avenue\, Chicago\, IL\, 60630\, United States
END:VEVENT
BEGIN:VEVENT
DTSTART;TZID=America/Chicago:20210324T193000
DTEND;TZID=America/Chicago:20210324T200000
DTSTAMP:20260422T170619
CREATED:20210220T025812Z
LAST-MODIFIED:20210319T112653Z
UID:1741-1616614200-1616616000@redeemerparkridge.com
SUMMARY:Lenten Midweek Worship
DESCRIPTION:The 40 days of Lent are an opportunity to reflect on our faith as we move toward observing Jesus’ death and celebrating Jesus’ resurrection on Easter Sunday. We are gathering weekly via Zoom for a 30-minute worship service rooted in the devotional resource Lenten Journey: Water Marks. Each week\, we spend time meditating on a different image of water in Scripture. Our worship gatherings include simple music\, readings from Scripture\, a short devotion\, silence for prayerful reflection\, and the option to stick around for a short time of discussion. Questions? Contact Pastor Dan\, at dan@redeemerchicago.com.
URL:https://redeemerparkridge.com/event/lenten-midweek-worship/
LOCATION:Online Meeting
END:VEVENT
BEGIN:VEVENT
DTSTART;TZID=America/Chicago:20210129T190000
DTEND;TZID=America/Chicago:20210129T210000
DTSTAMP:20260422T170619
CREATED:20200424T201431Z
LAST-MODIFIED:20210115T045838Z
UID:928-1611946800-1611954000@redeemerparkridge.com
SUMMARY:Online Trivia Night
DESCRIPTION:Join us or an online trivia night. We’ll meet on Zoom at 7pm\, break into teams\, and play some relaxed trivia together. Feel free to invite friends and family. Email peter@redeemerchicago.com for a link to participate.
URL:https://redeemerparkridge.com/event/online-trivia-night/
LOCATION:Online Meeting
END:VEVENT
BEGIN:VEVENT
DTSTART;TZID=America/Chicago:20201224T160000
DTEND;TZID=America/Chicago:20201224T170000
DTSTAMP:20260422T170619
CREATED:20191213T023955Z
LAST-MODIFIED:20201211T235927Z
UID:615-1608825600-1608829200@redeemerparkridge.com
SUMMARY:Christmas Eve Worship
DESCRIPTION:Join us on Zoom at 4pm for a worship service to celebrate Jesus’ birth! \nWe will celebrate holy communion together\, trusting in Christ’s presence with us. Before our worship\, gather your own communion elements\, which we’ll take together. Whatever you have on hand is fine—just a bite of something to eat and sip of something to drink. \nEmail peter@redeemerchicago.com for the Zoom link.
URL:https://redeemerparkridge.com/event/christmas-eve-worship/
LOCATION:Online Meeting
END:VEVENT
BEGIN:VEVENT
DTSTART;TZID=America/Chicago:20200924T190000
DTEND;TZID=America/Chicago:20200924T200000
DTSTAMP:20260422T170619
CREATED:20200817T010856Z
LAST-MODIFIED:20200918T181111Z
UID:1277-1600974000-1600977600@redeemerparkridge.com
SUMMARY:Hope Bible Study
DESCRIPTION:Everything feeling hopeless and overwhelming? The Bible contains many passages about hope. Join us for a Bible Study on “hope” at Third Place Chicago\, from 7-8pm. Note: Group size will be limited to eight people to allow for social distancing\, so please reserve your spot with Karen at karen@redeemerchicago.com.
URL:https://redeemerparkridge.com/event/hope-bible-study/
LOCATION:Third Place Chicago\, 4651 N. Milwaukee Avenue\, Chicago\, IL\, 60630\, United States
END:VEVENT
BEGIN:VEVENT
DTSTART;TZID=UTC:20200331T120000
DTEND;TZID=UTC:20200331T123000
DTSTAMP:20260422T170619
CREATED:20200326T000715Z
LAST-MODIFIED:20200326T000715Z
UID:832-1585656000-1585657800@redeemerparkridge.com
SUMMARY:Tuesday Midday Bible Study
DESCRIPTION:This Tuesday at noon\, everyone is invited to participate in a Bible study via a Zoom meeting. This is a chance for us to connect and check in with each other\, and also to study God’s word together.  No preparation is needed. Just join if you can! \nClick here to join our Tuesday Midday Bible Study. \nOR \n \nDial this number to call in on your phone:  +1 312 626 6799 \n\n\n\nEnter this Meeting ID: 681 953 393 when prompted.\nNo Participant ID is required. Just press # when prompted.\nPress *6 to mute and unmute yourself.
URL:https://redeemerparkridge.com/event/tuesday-midday-bible-study/
LOCATION:Online Meeting
END:VEVENT
BEGIN:VEVENT
DTSTART;TZID=UTC:20200319T193000
DTEND;TZID=UTC:20200319T203000
DTSTAMP:20260422T170619
CREATED:20200319T025021Z
LAST-MODIFIED:20200319T025425Z
UID:807-1584646200-1584649800@redeemerparkridge.com
SUMMARY:Thursday Night Online Bible Study
DESCRIPTION:This Thursday evening\, everyone is invited to participate in a Bible study via a Zoom meeting. This is a chance for us to connect and check in with each other\, and also to study God’s word together. We’ll look at part of Mark 11 (the same passage Pastor Dan spoke about on our last Sunday Zoom meeting). No preparation is needed. Just join if you can! \nClick here to join our Thursday Night Bible Study \nOR \nDial this number to call in on your phone: +1 312 626 6799\nEnter this Meeting ID: 170 068 582 when prompted.\nNo Participant ID is required. Just press # when prompted.\nPress *6 to mute and unmute yourself.
URL:https://redeemerparkridge.com/event/thursday-night-online-bible-study/
LOCATION:Online Meeting
END:VEVENT
BEGIN:VEVENT
DTSTART;TZID=UTC:20200319T190000
DTEND;TZID=UTC:20200319T201500
DTSTAMP:20260422T170619
CREATED:20191016T211704Z
LAST-MODIFIED:20200315T000232Z
UID:227-1584644400-1584648900@redeemerparkridge.com
SUMMARY:CANCELED - Imperfect People Explore God Together
DESCRIPTION:Are you ready to start making better decisions and enjoy life with fewer regrets? Join us at Third Place Chicago (4651 N Milwaukee Ave) on Thursday\, March 19\, at 7pm\, for a relaxed discussion and a video message by Andy Stanley. This is for anyone looking to explore ways to make life better. Hope to see you there! \nFree parking available at Hoyne Savings Bank north of Third Place Chicago!
URL:https://redeemerparkridge.com/event/imperfect-people-explore-god-together/
LOCATION:Third Place Chicago\, 4651 N. Milwaukee Avenue\, Chicago\, IL\, 60630\, United States
END:VEVENT
BEGIN:VEVENT
DTSTART;TZID=America/Chicago:20200308T083000
DTEND;TZID=America/Chicago:20200308T123000
DTSTAMP:20260422T170619
CREATED:20191016T211448Z
LAST-MODIFIED:20200228T234734Z
UID:225-1583656200-1583670600@redeemerparkridge.com
SUMMARY:Sunday Worship at 8:30 and 11:00
DESCRIPTION:Join us for worship at either 8:30am (traditional) or 11:00am (contemporary). We’re looking at how to be real even as we grow.
URL:https://redeemerparkridge.com/event/sunday-worship-at-830-and-1100/
LOCATION:Redeemer Park Ridge\, 1006 Gillick St\, Park Ridge\, IL\, 60068\, United States
CATEGORIES:Sunday Worship
END:VEVENT
BEGIN:VEVENT
DTSTART;TZID=America/Chicago:20200227T190000
DTEND;TZID=America/Chicago:20200227T203000
DTSTAMP:20260422T170619
CREATED:20191016T210019Z
LAST-MODIFIED:20200218T232450Z
UID:216-1582830000-1582835400@redeemerparkridge.com
SUMMARY:Returning Citizens Talks
DESCRIPTION:On Thursday\, February 27\, from 7-8:30pm\, Third Place Chicago (4651 N Milwaukee Ave\, Chicago) will be hosting a series of brief talks from local community members who were previously incarcerated. This time of inspirational stories and mutual encouragement is for everyone—returning citizens\, families\, and anyone in the congregation and community who wants to participate in learning from and uplifting the returning citizens in our community. Join us for snacks and a time of learning from one another!
URL:https://redeemerparkridge.com/event/returning-citizens-talks/
LOCATION:Third Place Chicago\, 4651 N. Milwaukee Avenue\, Chicago\, IL\, 60630\, United States
CATEGORIES:Sunday Worship
END:VEVENT
BEGIN:VEVENT
DTSTART;TZID=America/Chicago:20200219T190000
DTEND;TZID=America/Chicago:20200219T193000
DTSTAMP:20260422T170619
CREATED:20191121T233941Z
LAST-MODIFIED:20200214T232644Z
UID:566-1582138800-1582140600@redeemerparkridge.com
SUMMARY:Centering Prayer
DESCRIPTION:Meet in the sanctuary on Wednesdays at 7pm for 20 minutes of silent centering prayer. Everyone is welcome! Explanation and instructions are provided. It’s a peaceful way to re-center yourself on God in the middle of the week.
URL:https://redeemerparkridge.com/event/centering-prayer/
LOCATION:Redeemer Park Ridge\, 1006 Gillick St\, Park Ridge\, IL\, 60068\, United States
END:VEVENT
BEGIN:VEVENT
DTSTART;TZID=America/Chicago:20200212T190000
DTEND;TZID=America/Chicago:20200212T201500
DTSTAMP:20260422T170619
CREATED:20200103T013047Z
LAST-MODIFIED:20200207T043342Z
UID:661-1581534000-1581538500@redeemerparkridge.com
SUMMARY:Financial Wellness Class
DESCRIPTION:Thrivent Financial is offering free Financial Wellness Classes at Third Place Chicago from 7:00-8:15pm. This is a great way to brush up on some skills or have questions answered by professionals who can explain this a bit better than the Internet! The topics include Values-Based Budgeting\, SMART Goals\, Finding Ways to Save\, and Decoding Your Credit.
URL:https://redeemerparkridge.com/event/financial-wellness-class/
LOCATION:Third Place Chicago\, 4651 N. Milwaukee Avenue\, Chicago\, IL\, 60630\, United States
END:VEVENT
BEGIN:VEVENT
DTSTART;TZID=America/Chicago:20191228T093000
DTEND;TZID=America/Chicago:20191228T113000
DTSTAMP:20260422T170619
CREATED:20191121T233615Z
LAST-MODIFIED:20191219T054723Z
UID:563-1577525400-1577532600@redeemerparkridge.com
SUMMARY:Group for Moms (MOPS & MOMSnext)
DESCRIPTION:(We originally planned to meet on December 7\, but we have rescheduled for December 28. In January\, we will return to our normal first-Saturday-of-the-month schedule.) \nCome join other Northwest Side moms at our new MOPS/MOMSnext group held at Third Place Chicago. MOPS/MOMSnext is a national organization that gathers moms to support each other through the journey of motherhood. We believe in the simple but revolutionary idea that remarkable things happen when moms come together face-to-face. That’s why we rally women to come together in their own neighborhoods and help each other through this thing called motherhood\, one gathering at a time. \nWhether you are a soon-to-be mom\, first-time mom or seventh-time mom\, you are welcome here. Whether you are an adoptive mom\, young mom\, seasoned mom\, foster mom\, stepmom or any other type of mom\, you are welcome here. Moms who have children\, no matter the age\, are welcome. Our gatherings are where moms can meet to share their hopes\, fears\, and insights in a format that works with their schedule. Come join us for honest conversations about the joys and frustrations of motherhood\, take a break from the routine of life\, have some fun\, make new friendships\, and build support networks. \nChildcare is provided at all meetings. For more information\, go to thirdplacechicago.com/mops.
URL:https://redeemerparkridge.com/event/group-for-moms-mops-momsnext-2/
LOCATION:Third Place Chicago\, 4651 N. Milwaukee Avenue\, Chicago\, IL\, 60630\, United States
END:VEVENT
BEGIN:VEVENT
DTSTART;TZID=America/Chicago:20191208T100000
DTEND;TZID=America/Chicago:20191208T104500
DTSTAMP:20260422T170619
CREATED:20191128T230102Z
LAST-MODIFIED:20191128T230102Z
UID:597-1575799200-1575801900@redeemerparkridge.com
SUMMARY:Faith in Action: Cards for Hospitalized Kids
DESCRIPTION:Join us in between worship services on Sunday\, December 8\, to make holiday cards to send to kids who are hospitalized across the nation. No artistic skills required! Stay for five minutes or stay the whole time! This is a great event for all ages! We will be donating the holiday cards to Cards for Hospitalized Kids\, an organization dedicated to spreading hope and joy to hospitalized kids across America through uplifting\, handmade cards.
URL:https://redeemerparkridge.com/event/faith-in-action-cards-for-hospitalized-kids/
LOCATION:Redeemer Park Ridge\, 1006 Gillick St\, Park Ridge\, IL\, 60068\, United States
END:VEVENT
END:VCALENDAR