BEGIN:VCALENDAR
VERSION:2.0
PRODID:-//Redeemer Church - ECPv6.15.11//NONSGML v1.0//EN
CALSCALE:GREGORIAN
METHOD:PUBLISH
X-ORIGINAL-URL:https://redeemerparkridge.com
X-WR-CALDESC:Events for Redeemer Church
REFRESH-INTERVAL;VALUE=DURATION:PT1H
X-Robots-Tag:noindex
X-PUBLISHED-TTL:PT1H
BEGIN:VTIMEZONE
TZID:America/Chicago
BEGIN:DAYLIGHT
TZOFFSETFROM:-0600
TZOFFSETTO:-0500
TZNAME:CDT
DTSTART:20240310T080000
END:DAYLIGHT
BEGIN:STANDARD
TZOFFSETFROM:-0500
TZOFFSETTO:-0600
TZNAME:CST
DTSTART:20241103T070000
END:STANDARD
BEGIN:DAYLIGHT
TZOFFSETFROM:-0600
TZOFFSETTO:-0500
TZNAME:CDT
DTSTART:20250309T080000
END:DAYLIGHT
BEGIN:STANDARD
TZOFFSETFROM:-0500
TZOFFSETTO:-0600
TZNAME:CST
DTSTART:20251102T070000
END:STANDARD
BEGIN:DAYLIGHT
TZOFFSETFROM:-0600
TZOFFSETTO:-0500
TZNAME:CDT
DTSTART:20260308T080000
END:DAYLIGHT
BEGIN:STANDARD
TZOFFSETFROM:-0500
TZOFFSETTO:-0600
TZNAME:CST
DTSTART:20261101T070000
END:STANDARD
BEGIN:DAYLIGHT
TZOFFSETFROM:-0600
TZOFFSETTO:-0500
TZNAME:CDT
DTSTART:20270314T080000
END:DAYLIGHT
BEGIN:STANDARD
TZOFFSETFROM:-0500
TZOFFSETTO:-0600
TZNAME:CST
DTSTART:20271107T070000
END:STANDARD
END:VTIMEZONE
BEGIN:VEVENT
DTSTART;TZID=America/Chicago:20250417T190000
DTEND;TZID=America/Chicago:20250417T200000
DTSTAMP:20260422T170312
CREATED:20200403T215531Z
LAST-MODIFIED:20250311T182536Z
UID:871-1744916400-1744920000@redeemerparkridge.com
SUMMARY:Maundy Thursday Worship with Messiah Lutheran Church
DESCRIPTION:Join us for a special joint worship with Messiah Lutheran Church\, at Messiah (1605 Vernon Ave\, Park Ridge\, IL)\, as we remember Jesus’ last evening spent with his disciples.
URL:https://redeemerparkridge.com/event/maundy-thursday-worship/
LOCATION:Messiah Lutheran Church\, 1605 Vernon Avenue\, Park Ridge\, IL\, 60068\, United States
END:VEVENT
BEGIN:VEVENT
DTSTART;TZID=America/Chicago:20250418T173000
DTEND;TZID=America/Chicago:20250418T181500
DTSTAMP:20260422T170312
CREATED:20230328T202949Z
LAST-MODIFIED:20250409T140605Z
UID:2708-1744997400-1745000100@redeemerparkridge.com
SUMMARY:Shared Meal
DESCRIPTION:Come to the Redeemer Gym for a shared meal anytime between 5:30pm and 6:15pm\, on Friday\, April 18\, prior to our Good Friday worship service.
URL:https://redeemerparkridge.com/event/shared-meal/
LOCATION:Redeemer Park Ridge\, 1006 Gillick St\, Park Ridge\, IL\, 60068\, United States
END:VEVENT
BEGIN:VEVENT
DTSTART;TZID=America/Chicago:20250418T183000
DTEND;TZID=America/Chicago:20250418T193000
DTSTAMP:20260422T170312
CREATED:20200410T181300Z
LAST-MODIFIED:20250409T140547Z
UID:881-1745001000-1745004600@redeemerparkridge.com
SUMMARY:Good Friday Worship
DESCRIPTION:Join us for worship as we remember Jesus’ self-giving death on a cross.
URL:https://redeemerparkridge.com/event/good-friday-worship/
LOCATION:Redeemer Park Ridge\, 1006 Gillick St\, Park Ridge\, IL\, 60068\, United States
END:VEVENT
BEGIN:VEVENT
DTSTART;TZID=America/Chicago:20250601T100000
DTEND;TZID=America/Chicago:20250601T110000
DTSTAMP:20260422T170312
CREATED:20240523T210944Z
LAST-MODIFIED:20250423T185931Z
UID:3179-1748772000-1748775600@redeemerparkridge.com
SUMMARY:Special Schedule: One Worship Service at 10:00am
DESCRIPTION:On Sunday\, June 1\, we’ll have a single worship service\, at 10am\, followed by our annual congregational meeting. Everyone is welcome as we hear God’s word\, share the Lord’s supper\, pray\, sing songs of praise\, and make plans for the year ahead. \n 
URL:https://redeemerparkridge.com/event/sunday-worship-at-1000am-one-service/
LOCATION:Redeemer Park Ridge\, 1006 Gillick St\, Park Ridge\, IL\, 60068\, United States
END:VEVENT
BEGIN:VEVENT
DTSTART;VALUE=DATE:20250622
DTEND;VALUE=DATE:20250623
DTSTAMP:20260422T170312
CREATED:20240523T211851Z
LAST-MODIFIED:20250423T190131Z
UID:3207-1750550400-1750636799@redeemerparkridge.com
SUMMARY:No Worship Services (Faith-in-Action Weekend)
DESCRIPTION:On June 20-22\, we’ll practice being God’s church a little differently from normal. We’re canceling our usual worship services\, and instead worshiping God through acts of service to our neighbors.
URL:https://redeemerparkridge.com/event/no-worship-services-faith-in-action-weekend/
LOCATION:IL
END:VEVENT
BEGIN:VEVENT
DTSTART;TZID=America/Chicago:20250629T100000
DTEND;TZID=America/Chicago:20250629T110000
DTSTAMP:20260422T170312
CREATED:20240626T134024Z
LAST-MODIFIED:20250423T185846Z
UID:3262-1751191200-1751194800@redeemerparkridge.com
SUMMARY:Special Schedule: One Worship Service at 10:00am
DESCRIPTION:Join us at Redeemer Church for Sunday worship at 10:00am. After worship\, we’ll celebrate Deacon Karen’s service at Redeemer with a meal and fellowship together.
URL:https://redeemerparkridge.com/event/sunday-worship-one-service-at-1000am/
LOCATION:Redeemer Park Ridge\, 1006 Gillick St\, Park Ridge\, IL\, 60068\, United States
END:VEVENT
BEGIN:VEVENT
DTSTART;TZID=America/Chicago:20250907T100000
DTEND;TZID=America/Chicago:20250907T120000
DTSTAMP:20260422T170312
CREATED:20240626T140004Z
LAST-MODIFIED:20250903T192737Z
UID:3280-1757239200-1757246400@redeemerparkridge.com
SUMMARY:Sunday Worship & Fall Kickoff Picnic
DESCRIPTION:Join us for a combined worship service at 10am\, followed by a good meal and good conversation as we kick off Fall 2025!
URL:https://redeemerparkridge.com/event/sunday-worship-fall-kickoff/
LOCATION:Redeemer Park Ridge\, 1006 Gillick St\, Park Ridge\, IL\, 60068\, United States
END:VEVENT
BEGIN:VEVENT
DTSTART;TZID=America/Chicago:20251002T110000
DTEND;TZID=America/Chicago:20251002T130000
DTSTAMP:20260422T170312
CREATED:20250813T182133Z
LAST-MODIFIED:20250813T182133Z
UID:3723-1759402800-1759410000@redeemerparkridge.com
SUMMARY:Senior Luncheon
DESCRIPTION:All seniors are invited to join us in the Sanctuary for fellowship and a meal together.
URL:https://redeemerparkridge.com/event/senior-luncheon-2/
LOCATION:Redeemer Park Ridge\, 1006 Gillick St\, Park Ridge\, IL\, 60068\, United States
END:VEVENT
BEGIN:VEVENT
DTSTART;TZID=America/Chicago:20251012T083000
DTEND;TZID=America/Chicago:20251012T093000
DTSTAMP:20260422T170312
CREATED:20211224T162436Z
LAST-MODIFIED:20250807T152723Z
UID:2187-1760257800-1760261400@redeemerparkridge.com
SUMMARY:Sunday Worship at 8:30am
DESCRIPTION:Join us at Redeemer Church for Sunday worship at 8:30am. We’ll hear God’s word\, share the Lord’s supper\, pray\, and sing songs of praise.
URL:https://redeemerparkridge.com/event/sunday-worship-at-830am/
LOCATION:Redeemer Park Ridge\, 1006 Gillick St\, Park Ridge\, IL\, 60068\, United States
END:VEVENT
BEGIN:VEVENT
DTSTART;TZID=America/Chicago:20251012T110000
DTEND;TZID=America/Chicago:20251012T120000
DTSTAMP:20260422T170312
CREATED:20211224T162354Z
LAST-MODIFIED:20250807T152730Z
UID:2184-1760266800-1760270400@redeemerparkridge.com
SUMMARY:Sunday Worship at 11:00am
DESCRIPTION:Join us at Redeemer Church for Sunday worship at 11:00am. We’ll hear God’s word\, share the Lord’s supper\, pray\, and sing songs of praise.
URL:https://redeemerparkridge.com/event/sunday-worship-at-1100am/
LOCATION:Redeemer Park Ridge\, 1006 Gillick St\, Park Ridge\, IL\, 60068\, United States
END:VEVENT
BEGIN:VEVENT
DTSTART;TZID=America/Chicago:20251019T083000
DTEND;TZID=America/Chicago:20251019T093000
DTSTAMP:20260422T170312
CREATED:20231226T175234Z
LAST-MODIFIED:20250807T152739Z
UID:3008-1760862600-1760866200@redeemerparkridge.com
SUMMARY:Sunday Worship at 8:30am
DESCRIPTION:Join us at Redeemer Church for worship at 8:30am. We’ll hear God’s word\, share the Lord’s supper\, pray\, and sing songs of praise.
URL:https://redeemerparkridge.com/event/sunday-worship-at-830am-3/
LOCATION:Redeemer Park Ridge\, 1006 Gillick St\, Park Ridge\, IL\, 60068\, United States
END:VEVENT
BEGIN:VEVENT
DTSTART;TZID=America/Chicago:20251019T110000
DTEND;TZID=America/Chicago:20251019T120000
DTSTAMP:20260422T170312
CREATED:20231226T175314Z
LAST-MODIFIED:20250807T152746Z
UID:3012-1760871600-1760875200@redeemerparkridge.com
SUMMARY:Sunday Worship at 11:00am
DESCRIPTION:Join us at Redeemer Church for worship at 11:00m. We’ll hear God’s word\, share the Lord’s supper\, pray\, and sing songs of praise.
URL:https://redeemerparkridge.com/event/sunday-worship-at-1100am-3/
LOCATION:Redeemer Park Ridge\, 1006 Gillick St\, Park Ridge\, IL\, 60068\, United States
END:VEVENT
BEGIN:VEVENT
DTSTART;TZID=America/Chicago:20251204T110000
DTEND;TZID=America/Chicago:20251204T130000
DTSTAMP:20260422T170312
CREATED:20251112T154239Z
LAST-MODIFIED:20251112T154239Z
UID:3845-1764846000-1764853200@redeemerparkridge.com
SUMMARY:Senior Luncheon
DESCRIPTION:All seniors are invited to join us in the Sanctuary for fellowship and a meal together.
URL:https://redeemerparkridge.com/event/senior-luncheon-3/
LOCATION:Redeemer Park Ridge\, 1006 Gillick St\, Park Ridge\, IL\, 60068\, United States
END:VEVENT
BEGIN:VEVENT
DTSTART;TZID=America/Chicago:20251221T100000
DTEND;TZID=America/Chicago:20251221T110000
DTSTAMP:20260422T170312
CREATED:20191101T202631Z
LAST-MODIFIED:20251126T154230Z
UID:526-1766311200-1766314800@redeemerparkridge.com
SUMMARY:Special Sunday Worship at 10am: Children's Christmas Program
DESCRIPTION:Join us for worship and our annual children’s Christmas program. (There will be no services at 8:30am or 11am on December 21.) And then stick around for a special Christmas lunch. Everyone is welcome!
URL:https://redeemerparkridge.com/event/worship-christmas-program/
LOCATION:Redeemer Park Ridge\, 1006 Gillick St\, Park Ridge\, IL\, 60068\, United States
CATEGORIES:Sunday Worship
END:VEVENT
BEGIN:VEVENT
DTSTART;TZID=America/Chicago:20251221T110000
DTEND;TZID=America/Chicago:20251221T120000
DTSTAMP:20260422T170312
CREATED:20221201T185333Z
LAST-MODIFIED:20251126T154219Z
UID:2564-1766314800-1766318400@redeemerparkridge.com
SUMMARY:Christmas Lunch
DESCRIPTION:Join us for a special Christmas lunch\, immediately following our annual children’s Christmas program. Everyone is welcome!
URL:https://redeemerparkridge.com/event/christmas-lunch/
LOCATION:Redeemer Park Ridge\, 1006 Gillick St\, Park Ridge\, IL\, 60068\, United States
END:VEVENT
BEGIN:VEVENT
DTSTART;TZID=America/Chicago:20251224T100000
DTEND;TZID=America/Chicago:20251224T110000
DTSTAMP:20260422T170312
CREATED:20191213T024054Z
LAST-MODIFIED:20251126T154208Z
UID:618-1766570400-1766574000@redeemerparkridge.com
SUMMARY:Christmas Eve Worship
DESCRIPTION:Join us at 10am for a worship service to celebrate Jesus’ birth!
URL:https://redeemerparkridge.com/event/christmas-eve-worship-2/
LOCATION:Redeemer Park Ridge\, 1006 Gillick St\, Park Ridge\, IL\, 60068\, United States
END:VEVENT
BEGIN:VEVENT
DTSTART;TZID=America/Chicago:20251224T160000
DTEND;TZID=America/Chicago:20251224T170000
DTSTAMP:20260422T170312
CREATED:20211210T212014Z
LAST-MODIFIED:20251126T154152Z
UID:2167-1766592000-1766595600@redeemerparkridge.com
SUMMARY:Christmas Eve Worship
DESCRIPTION:Join us at 4pm for a worship service to celebrate Jesus’ birth!
URL:https://redeemerparkridge.com/event/christmas-eve-worship-3/
LOCATION:Redeemer Park Ridge\, 1006 Gillick St\, Park Ridge\, IL\, 60068\, United States
END:VEVENT
BEGIN:VEVENT
DTSTART;TZID=America/Chicago:20251228T100000
DTEND;TZID=America/Chicago:20251228T110000
DTSTAMP:20260422T170312
CREATED:20211210T211701Z
LAST-MODIFIED:20251126T154142Z
UID:2160-1766916000-1766919600@redeemerparkridge.com
SUMMARY:Special Sunday Worship at 10am: Service of Readings & Carols
DESCRIPTION:Join us for a special service of Christmas readings and carols. (There will be no services at 8:30am or 11am on December 28.)
URL:https://redeemerparkridge.com/event/special-sunday-worship-at-10am-service-of-readings-hymns/
LOCATION:Redeemer Park Ridge\, 1006 Gillick St\, Park Ridge\, IL\, 60068\, United States
END:VEVENT
BEGIN:VEVENT
DTSTART;TZID=America/Chicago:20260104T083000
DTEND;TZID=America/Chicago:20260104T093000
DTSTAMP:20260422T170312
CREATED:20240523T212106Z
LAST-MODIFIED:20251203T184655Z
UID:3213-1767515400-1767519000@redeemerparkridge.com
SUMMARY:Sunday Worship at 8:30am
DESCRIPTION:Join us at Redeemer Church for Sunday worship at 8:30am. We’ll hear God’s word\, share the Lord’s supper\, pray\, and sing songs of praise.
URL:https://redeemerparkridge.com/event/sunday-worship-at-830am-8/
LOCATION:Redeemer Park Ridge\, 1006 Gillick St\, Park Ridge\, IL\, 60068\, United States
END:VEVENT
BEGIN:VEVENT
DTSTART;TZID=America/Chicago:20260104T110000
DTEND;TZID=America/Chicago:20260104T120000
DTSTAMP:20260422T170312
CREATED:20240523T212026Z
LAST-MODIFIED:20251203T184702Z
UID:3210-1767524400-1767528000@redeemerparkridge.com
SUMMARY:Sunday Worship at 11:00am
DESCRIPTION:Join us at Redeemer Church for Sunday worship at 11:00am. We’ll hear God’s word\, share the Lord’s supper\, pray\, and sing songs of praise.
URL:https://redeemerparkridge.com/event/sunday-worship-at-1100am-8/
LOCATION:Redeemer Park Ridge\, 1006 Gillick St\, Park Ridge\, IL\, 60068\, United States
END:VEVENT
BEGIN:VEVENT
DTSTART;TZID=America/Chicago:20260111T083000
DTEND;TZID=America/Chicago:20260111T093000
DTSTAMP:20260422T170312
CREATED:20240626T134054Z
LAST-MODIFIED:20251203T184801Z
UID:3265-1768120200-1768123800@redeemerparkridge.com
SUMMARY:Sunday Worship at 8:30am
DESCRIPTION:Join us at Redeemer Church for Sunday worship at 8:30am. We’ll hear God’s word\, share the Lord’s supper\, pray\, and sing songs of praise.
URL:https://redeemerparkridge.com/event/sunday-worship-at-830am-14/
LOCATION:Redeemer Park Ridge\, 1006 Gillick St\, Park Ridge\, IL\, 60068\, United States
END:VEVENT
BEGIN:VEVENT
DTSTART;TZID=America/Chicago:20260111T110000
DTEND;TZID=America/Chicago:20260111T120000
DTSTAMP:20260422T170312
CREATED:20240626T134135Z
LAST-MODIFIED:20251203T184807Z
UID:3268-1768129200-1768132800@redeemerparkridge.com
SUMMARY:Sunday Worship at 11:00am
DESCRIPTION:Join us at Redeemer Church for Sunday worship at 11:00am. We’ll hear God’s word\, share the Lord’s supper\, pray\, and sing songs of praise.
URL:https://redeemerparkridge.com/event/sunday-worship-at-1100am-14/
LOCATION:Redeemer Park Ridge\, 1006 Gillick St\, Park Ridge\, IL\, 60068\, United States
END:VEVENT
BEGIN:VEVENT
DTSTART;TZID=America/Chicago:20260118T083000
DTEND;TZID=America/Chicago:20260118T093000
DTSTAMP:20260422T170312
CREATED:20240626T133636Z
LAST-MODIFIED:20251203T184815Z
UID:3250-1768725000-1768728600@redeemerparkridge.com
SUMMARY:Sunday Worship at 8:30am
DESCRIPTION:Join us at Redeemer Church for Sunday worship at 8:30am. We’ll hear God’s word\, share the Lord’s supper\, pray\, and sing songs of praise.
URL:https://redeemerparkridge.com/event/sunday-worship-at-830am-12/
LOCATION:Redeemer Park Ridge\, 1006 Gillick St\, Park Ridge\, IL\, 60068\, United States
END:VEVENT
BEGIN:VEVENT
DTSTART;TZID=America/Chicago:20260118T110000
DTEND;TZID=America/Chicago:20260118T120000
DTSTAMP:20260422T170312
CREATED:20240626T133713Z
LAST-MODIFIED:20251203T184823Z
UID:3253-1768734000-1768737600@redeemerparkridge.com
SUMMARY:Sunday Worship at 11:00am
DESCRIPTION:Join us at Redeemer Church for Sunday worship at 11:00am. We’ll hear God’s word\, share the Lord’s supper\, pray\, and sing songs of praise.
URL:https://redeemerparkridge.com/event/sunday-worship-at-1100am-12/
LOCATION:Redeemer Park Ridge\, 1006 Gillick St\, Park Ridge\, IL\, 60068\, United States
END:VEVENT
BEGIN:VEVENT
DTSTART;TZID=America/Chicago:20260218T193000
DTEND;TZID=America/Chicago:20260218T201500
DTSTAMP:20260422T170312
CREATED:20200221T222225Z
LAST-MODIFIED:20260106T151452Z
UID:743-1771443000-1771445700@redeemerparkridge.com
SUMMARY:Ash Wednesday Worship
DESCRIPTION:Join us for worship as we begin the season of Lent with an Ash Wednesday worship service.
URL:https://redeemerparkridge.com/event/ash-wednesday-worship/
LOCATION:Redeemer Park Ridge\, 1006 Gillick St\, Park Ridge\, IL\, 60068\, United States
END:VEVENT
BEGIN:VEVENT
DTSTART;TZID=America/Chicago:20260225T180000
DTEND;TZID=America/Chicago:20260225T193000
DTSTAMP:20260422T170312
CREATED:20200314T190825Z
LAST-MODIFIED:20260127T224907Z
UID:758-1772042400-1772047800@redeemerparkridge.com
SUMMARY:Lent Midweek Meal & Worship
DESCRIPTION:During this season of Lent\, join us for a soup supper each Wednesday at 6pm\, followed by a brief midweek worship service at 7pm. All are welcome for all or part of the evening together.
URL:https://redeemerparkridge.com/event/lent-midweek-meal-worship/
LOCATION:Redeemer Park Ridge\, 1006 Gillick St\, Park Ridge\, IL\, 60068\, United States
END:VEVENT
BEGIN:VEVENT
DTSTART;TZID=America/Chicago:20260301T083000
DTEND;TZID=America/Chicago:20260301T093000
DTSTAMP:20260422T170312
CREATED:20231205T164731Z
LAST-MODIFIED:20260203T170928Z
UID:2983-1772353800-1772357400@redeemerparkridge.com
SUMMARY:Sunday Worship at 8:30am
DESCRIPTION:Join us at Redeemer Church for Sunday worship at 8:30am. We’ll hear God’s word\, share the Lord’s supper\, pray\, and sing songs of praise.
URL:https://redeemerparkridge.com/event/sunday-worship-at-830am-2/
LOCATION:Redeemer Park Ridge\, 1006 Gillick St\, Park Ridge\, IL\, 60068\, United States
END:VEVENT
BEGIN:VEVENT
DTSTART;TZID=America/Chicago:20260301T110000
DTEND;TZID=America/Chicago:20260301T120000
DTSTAMP:20260422T170312
CREATED:20231205T164828Z
LAST-MODIFIED:20260203T170935Z
UID:2984-1772362800-1772366400@redeemerparkridge.com
SUMMARY:Sunday Worship at 11:00am
DESCRIPTION:Join us at Redeemer Church for Sunday worship at 11:00am. We’ll hear God’s word\, share the Lord’s supper\, pray\, and sing songs of praise.
URL:https://redeemerparkridge.com/event/sunday-worship-at-1100am-2/
LOCATION:Redeemer Park Ridge\, 1006 Gillick St\, Park Ridge\, IL\, 60068\, United States
END:VEVENT
BEGIN:VEVENT
DTSTART;TZID=America/Chicago:20260304T180000
DTEND;TZID=America/Chicago:20260304T193000
DTSTAMP:20260422T170312
CREATED:20250130T173554Z
LAST-MODIFIED:20260127T224926Z
UID:3503-1772647200-1772652600@redeemerparkridge.com
SUMMARY:Lent Midweek Meal & Worship
DESCRIPTION:During this season of Lent\, join us for a soup supper each Wednesday at 6pm\, followed by a brief midweek worship service at 7pm. All are welcome for all or part of the evening together.
URL:https://redeemerparkridge.com/event/lent-midweek-meal-worship-5/
LOCATION:Redeemer Park Ridge\, 1006 Gillick St\, Park Ridge\, IL\, 60068\, United States
END:VEVENT
BEGIN:VEVENT
DTSTART;TZID=America/Chicago:20260307T093000
DTEND;TZID=America/Chicago:20260307T120000
DTSTAMP:20260422T170312
CREATED:20250722T162703Z
LAST-MODIFIED:20260203T170917Z
UID:3695-1772875800-1772884800@redeemerparkridge.com
SUMMARY:MomCo Meetup
DESCRIPTION:Come join other moms at our MomCo group held at Redeemer Church. MomCo is a group for all moms—no matter their age or the age of their children. We gather to share our hopes\, fears\, and insights. MomCo is a national organization that gathers moms to support each other through the journey of motherhood. We believe in the simple but revolutionary idea that remarkable things happen when moms come together face-to-face. That’s why we rally women to come together in their own neighborhoods and help each other through this thing called motherhood\, one gathering at a time. \nWhether you are a soon-to-be mom\, first-time mom or seventh-time mom\, you are welcome here. Whether you are an adoptive mom\, young mom\, seasoned mom\, foster mom\, stepmom\, or any other type of mom\, you are welcome here. Moms who have children\, no matter the age\, are welcome. Our gatherings are where moms can meet to share their hopes\, fears\, and insights in a format that works with their schedule. Come join us for honest conversations about the joys and frustrations of motherhood\, take a break from the routine of life\, have some fun\, make new friendships\, and build support networks. \nWe normally meet the first Saturday of each month\, from 9:30-noon\, October through May. For more information\, click here.
URL:https://redeemerparkridge.com/event/momco-meetup-2/
LOCATION:Redeemer Park Ridge\, 1006 Gillick St\, Park Ridge\, IL\, 60068\, United States
END:VEVENT
END:VCALENDAR